BEGIN:VCALENDAR
VERSION:2.0
PRODID:-//Kuseler Stimme - ECPv6.15.11//NONSGML v1.0//EN
CALSCALE:GREGORIAN
METHOD:PUBLISH
X-ORIGINAL-URL:https://kuseler-stimme.de
X-WR-CALDESC:Veranstaltungen für Kuseler Stimme
REFRESH-INTERVAL;VALUE=DURATION:PT1H
X-Robots-Tag:noindex
X-PUBLISHED-TTL:PT1H
BEGIN:VTIMEZONE
TZID:Europe/Berlin
BEGIN:DAYLIGHT
TZOFFSETFROM:+0100
TZOFFSETTO:+0200
TZNAME:CEST
DTSTART:20240331T010000
END:DAYLIGHT
BEGIN:STANDARD
TZOFFSETFROM:+0200
TZOFFSETTO:+0100
TZNAME:CET
DTSTART:20241027T010000
END:STANDARD
BEGIN:DAYLIGHT
TZOFFSETFROM:+0100
TZOFFSETTO:+0200
TZNAME:CEST
DTSTART:20250330T010000
END:DAYLIGHT
BEGIN:STANDARD
TZOFFSETFROM:+0200
TZOFFSETTO:+0100
TZNAME:CET
DTSTART:20251026T010000
END:STANDARD
BEGIN:DAYLIGHT
TZOFFSETFROM:+0100
TZOFFSETTO:+0200
TZNAME:CEST
DTSTART:20260329T010000
END:DAYLIGHT
BEGIN:STANDARD
TZOFFSETFROM:+0200
TZOFFSETTO:+0100
TZNAME:CET
DTSTART:20261025T010000
END:STANDARD
END:VTIMEZONE
BEGIN:VEVENT
DTSTART;TZID=Europe/Berlin:20250822T180000
DTEND;TZID=Europe/Berlin:20250822T230000
DTSTAMP:20260420T162819
CREATED:20250816T075800Z
LAST-MODIFIED:20250816T075800Z
UID:1345-1755885600-1755903600@kuseler-stimme.de
SUMMARY:Kuseler Sommermusik: Klang Lounge Piano & Forte
DESCRIPTION:Im Rahmen der Kuseler Sommermusik 2025 freut sich das Team vom Haus der Jugend auf Ihren/Euren Besuch!In angenehmer Atmosphäre treten lokale Künstlerinnen auf und sorgen für ein abwechslungsreiches musikalisches Programm. Die Klanglounge ist ein Treffpunkt für alle Altersgruppen – hier ist jeder willkommen.Neben den üblichen Getränken bieten wir auch ausgewählte Weine aus der Vorderpfalz an. Kommt vorbei und genießt Musik\, Gemeinschaft und ein Glas Wein unter freiem Himmel!
URL:https://kuseler-stimme.de/event/kuseler-sommermusik-klang-lounge-piano-forte/
LOCATION:Haus der Jugend Kusel\, Triererstraße 61\, Kusel\, 66869
CATEGORIES:Live-Musik
ATTACH;FMTTYPE=image/png:https://kuseler-stimme.de/wp-content/uploads/2025/08/Screenshot-2025-08-16-095343.png
ORGANIZER;CN="Haus der Jugend Kusel":MAILTO:hausderjugendkusel@vgka.de
END:VEVENT
END:VCALENDAR